BEGIN:VCALENDAR
VERSION:2.0
PRODID:-//Ayuntamiento de Mieres - ECPv5.16.1.1//NONSGML v1.0//EN
CALSCALE:GREGORIAN
METHOD:PUBLISH
X-WR-CALNAME:Ayuntamiento de Mieres
X-ORIGINAL-URL:https://www.mieres.es
X-WR-CALDESC:Eventos para Ayuntamiento de Mieres
BEGIN:VTIMEZONE
TZID:Europe/Madrid
BEGIN:DAYLIGHT
TZOFFSETFROM:+0100
TZOFFSETTO:+0200
TZNAME:CEST
DTSTART:20220327T010000
END:DAYLIGHT
BEGIN:STANDARD
TZOFFSETFROM:+0200
TZOFFSETTO:+0100
TZNAME:CET
DTSTART:20221030T010000
END:STANDARD
END:VTIMEZONE
BEGIN:VEVENT
DTSTART;TZID=Europe/Madrid:20220717T103000
DTEND;TZID=Europe/Madrid:20220717T140000
DTSTAMP:20260424T063432
CREATED:20220627T132743Z
LAST-MODIFIED:20220627T132822Z
UID:58044-1658053800-1658066400@www.mieres.es
SUMMARY:Rutes Turístiques 2022: "Ruta ciclista al poblado de Bustiello"\, Norial Aventura
DESCRIPTION:RUTES TURÍSTIQUES 2022\n\nRuta ciclista al poblado de Bustiello\npor Norial Aventura\, Roberto Álvarez Espinedo y María Fernanda Fernández (Pozu Espinos)\nItinerario: Mieres – Bustiello – Mieres \nDomingo 17 de julio \n  \nDuración aproximada: 3 horas y media\nDistancia aproximada: 18.000m\nDificultad: baja\nSalida: 10:30h\, Plaza de La Libertad -Mieres-.\nRegreso: 14:00\, Plaza de La Libertad -Mieres-.\nAforo: 15 personas \nEs necesario saber andar en bicicleta. La bicicleta será facilitada por la organización. \n  \nInscripciones gratuitas a través del formulario online disponible a partir del martes 28 de junio en esta misma web\, más abajo. Facilitamos también el acceso directo al formulario: https://forms.gle/gF4s1Ub1ouTvgMKc9 \nEn caso de duda\, pueden dirigirse a la Oficina de Turismo de Mieres/Casa de Cultura de Mieres\, en la calle Manuel Llaneza\, 8. Tfno. 985450533 \n\n  \nPartiendo de Mieres\, se define este recorrido cicloturista\, por senda fluvial\, para alcanzar el poblado minero de Bustiello tras atravesar Uxo y Santa Cruz. Una vez en Bustiello se realizará una visita guiada para apreciar el valor patrimonial de este enclave\, contextualizado en el paisaje del valle del río Aller. De nuevo en bici\, se regresará a Mieres. \n  \n\n \n  \n  \n  \n\nRutes Turístiques 2022\nUn año más\, desde el Ayuntamiento de Mieres ofrecemos a toda la ciudadanía un conjunto de rutas que\, durante el verano\, amplían las visitas guiadas a nuestros equipamientos turísticos. A través de itinerarios de muy diversa índole queremos dar a conocer nuestra historia\, patrimonio\, fiestas\, gastronomía o naturaleza. Y lo que es más importante\, con la participación no solamente de profesionales\, sino también del tejido asociativo y empresarial del concejo; una forma\, sin duda\, de hacer comunidad. Porque “Mieres va prestate”. \n\n  \n \nCargando…
URL:https://www.mieres.es/evento/rutes-turistiques-2022-ruta-ciclista-al-poblado-de-bustiello-norial-aventura/
LOCATION:Poblado Minero de Bustiello
CATEGORIES:Patrimonio,Ruta Cultural,Ruta Turística,Turismo
ATTACH;FMTTYPE=image/jpeg:https://www.mieres.es/wp-content/uploads/2022/06/banner-rutes-turistiques-2022-1200.jpg
ORGANIZER;CN="Concejal%C3%ADa%20de%20Turismo":MAILTO:turismo@ayto-mieres.es
END:VEVENT
END:VCALENDAR