BEGIN:VCALENDAR
VERSION:2.0
PRODID:-//Ayuntamiento de Mieres - ECPv5.16.1.1//NONSGML v1.0//EN
CALSCALE:GREGORIAN
METHOD:PUBLISH
X-WR-CALNAME:Ayuntamiento de Mieres
X-ORIGINAL-URL:https://www.mieres.es
X-WR-CALDESC:Eventos para Ayuntamiento de Mieres
BEGIN:VTIMEZONE
TZID:Europe/Madrid
BEGIN:DAYLIGHT
TZOFFSETFROM:+0100
TZOFFSETTO:+0200
TZNAME:CEST
DTSTART:20220327T010000
END:DAYLIGHT
BEGIN:STANDARD
TZOFFSETFROM:+0200
TZOFFSETTO:+0100
TZNAME:CET
DTSTART:20221030T010000
END:STANDARD
END:VTIMEZONE
BEGIN:VEVENT
DTSTART;TZID=Europe/Madrid:20220722T170000
DTEND;TZID=Europe/Madrid:20220722T193000
DTSTAMP:20260424T063534
CREATED:20220627T133520Z
LAST-MODIFIED:20220628T075239Z
UID:58047-1658509200-1658518200@www.mieres.es
SUMMARY:Rutes Turístiques 2022: "Ruta cultural y etnográfica por Gallegos"\, con Laura Flores y AAVV de Gallegos
DESCRIPTION:RUTES TURÍSTIQUES 2022\n\nRuta cultural y etnográfica por Gallegos\ncon Laura Flores y AAVV de Gallegos\nItinerario: Iglesia – Museo – Escuelinas – Lavadero \nViernes 22 de julio \n  \nDuración aproximada: 3 horas\nDistancia aproximada: 2.000m\nDificultad: baja\nSalida: 17:00h\, Plaza del Ayuntamiento de Mieres (en bus hasta Gallegos).\nRegreso: 19:30\, Plaza del Ayuntamiento de Mieres (en bus desde Gallegos).\nAforo: 20 personas \nSe recomienda calzado cómodo. \n  \nInscripciones gratuitas a través del formulario online disponible a partir del martes 28 de junio en esta misma web\, más abajo. Facilitamos también el acceso directo al formulario: https://forms.gle/m6pGgKUJadFTMHDRA \nEn caso de duda\, pueden dirigirse a la Oficina de Turismo de Mieres/Casa de Cultura de Mieres\, en la calle Manuel Llaneza\, 8. Tfno. 985450533 \n\n  \nEs un lugar que conserva muy buenos ejemplos de arquitectura tradicional\, entre los que destacan la Iglesia\, dedicada a San Pelayo\, la casa rectoral\, algunas casonas\, una de ellas sede del Museo Etnográfico\, y hórreos y paneras de interés. El nombre se dice que se debe a la existencia en el lugar\, en tiempos medievales\, de un monasterio de monjes gallegos. En esta ruta descubriremos tanto su historia\, como a su pueblo a través de las historias que nos han transmitido vía oral la gente del pueblo. \n  \n\n  \n \n\nRutes Turístiques 2022\nUn año más\, desde el Ayuntamiento de Mieres ofrecemos a toda la ciudadanía un conjunto de rutas que\, durante el verano\, amplían las visitas guiadas a nuestros equipamientos turísticos. A través de itinerarios de muy diversa índole queremos dar a conocer nuestra historia\, patrimonio\, fiestas\, gastronomía o naturaleza. Y lo que es más importante\, con la participación no solamente de profesionales\, sino también del tejido asociativo y empresarial del concejo; una forma\, sin duda\, de hacer comunidad. Porque “Mieres va prestate”. \n\n  \n \nCargando…
URL:https://www.mieres.es/evento/rutes-turistiques-2022-ruta-cultural-y-etnografica-por-gallegos-con-laura-flores-y-aavv-de-gallegos/
LOCATION:Plaza del Ayuntamiento\, Plaza de la Constitución s/n\, Mieres\, 33600
CATEGORIES:Patrimonio,Ruta Cultural,Ruta Turística,Turismo
ATTACH;FMTTYPE=image/jpeg:https://www.mieres.es/wp-content/uploads/2022/06/banner-rutes-turistiques-2022-1200.jpg
ORGANIZER;CN="Concejal%C3%ADa%20de%20Turismo":MAILTO:turismo@ayto-mieres.es
GEO:43.2489616;-5.7726903
X-APPLE-STRUCTURED-LOCATION;VALUE=URI;X-ADDRESS=Plaza del Ayuntamiento Plaza de la Constitución s/n Mieres 33600;X-APPLE-RADIUS=500;X-TITLE=Plaza de la Constitución s/n:geo:-5.7726903,43.2489616
END:VEVENT
END:VCALENDAR