BEGIN:VCALENDAR
VERSION:2.0
PRODID:-//Ayuntamiento de Mieres - ECPv5.16.1.1//NONSGML v1.0//EN
CALSCALE:GREGORIAN
METHOD:PUBLISH
X-WR-CALNAME:Ayuntamiento de Mieres
X-ORIGINAL-URL:https://www.mieres.es
X-WR-CALDESC:Eventos para Ayuntamiento de Mieres
BEGIN:VTIMEZONE
TZID:Europe/Madrid
BEGIN:DAYLIGHT
TZOFFSETFROM:+0100
TZOFFSETTO:+0200
TZNAME:CEST
DTSTART:20220327T010000
END:DAYLIGHT
BEGIN:STANDARD
TZOFFSETFROM:+0200
TZOFFSETTO:+0100
TZNAME:CET
DTSTART:20221030T010000
END:STANDARD
END:VTIMEZONE
BEGIN:VEVENT
DTSTART;TZID=Europe/Madrid:20220731T103000
DTEND;TZID=Europe/Madrid:20220731T140000
DTSTAMP:20260424T063535
CREATED:20220627T145726Z
LAST-MODIFIED:20220627T145726Z
UID:58063-1659263400-1659276000@www.mieres.es
SUMMARY:Rutes Turístiques 2022: "Ruta ciclista al Valle de Frechura"\, Norial Aventura
DESCRIPTION:RUTES TURÍSTIQUES 2022\n\nEl ferrocarril de Minas de Riosa: Ruta ciclista al Valle de Frechura\npor Norial Aventura\, Roberto Álvarez Espinedo (Pozu Espinos)\nItinerario: Mieres del Camín – Lloreo – Peñamiel – Mieres \nDomingo 31 de julio \n  \nDuración aproximada: 3 horas y media\nDistancia aproximada: 20.000m\nDificultad: baja\nSalida: 10:30h\, Plaza de La Libertad -Mieres-.\nRegreso: 14:00\, Plaza de La Libertad -Mieres-.\nAforo: 15 personas \nEs necesario saber andar en bicicleta. La bicicleta será facilitada por la organización. \n  \nInscripciones gratuitas a través del formulario online disponible a partir del martes 28 de junio en esta misma web\, más abajo. Facilitamos también el acceso directo al formulario: https://forms.gle/HNvr1QA4hpgHe2ps6 \nEn caso de duda\, pueden dirigirse a la Oficina de Turismo de Mieres/Casa de Cultura de Mieres\, en la calle Manuel Llaneza\, 8. Tfno. 985450533 \n\n  \nSe trata de una ruta cicloturista que recorre el trazado del antiguo ferrocarril de vía estrecha al servicio de la producción hullera\, en una zona de gran belleza natural y paisajística\, en la que se apreciarán los principales elementos industriales que aún perviven de esta obra centenaria. Partiendo de Mieres\, se llega a La Pereda (punto final del antiguo itinerario ferroviario) y desde allí\, siguiendo la preciosa senda verde que lo recupera\, se pasará por Lloreo\, La Vega San Pedro hasta alcanzar Frechura. La vuelta se hará de nuevo hasta Mieres. \n  \n\n  \n \n\nRutes Turístiques 2022\nUn año más\, desde el Ayuntamiento de Mieres ofrecemos a toda la ciudadanía un conjunto de rutas que\, durante el verano\, amplían las visitas guiadas a nuestros equipamientos turísticos. A través de itinerarios de muy diversa índole queremos dar a conocer nuestra historia\, patrimonio\, fiestas\, gastronomía o naturaleza. Y lo que es más importante\, con la participación no solamente de profesionales\, sino también del tejido asociativo y empresarial del concejo; una forma\, sin duda\, de hacer comunidad. Porque “Mieres va prestate”. \n\n  \n \nCargando…
URL:https://www.mieres.es/evento/rutes-turistiques-2022-ruta-ciclista-al-valle-de-frechura-norial-aventura/
LOCATION:Lloreo\, Asturias
CATEGORIES:Patrimonio,Ruta Cultural,Ruta Turística,Turismo
ATTACH;FMTTYPE=image/jpeg:https://www.mieres.es/wp-content/uploads/2022/06/banner-rutes-turistiques-2022-1200.jpg
ORGANIZER;CN="Concejal%C3%ADa%20de%20Turismo":MAILTO:turismo@ayto-mieres.es
GEO:43.3613953;-5.8593267
END:VEVENT
END:VCALENDAR