BEGIN:VCALENDAR
VERSION:2.0
PRODID:-//Ayuntamiento de Mieres - ECPv5.16.1.1//NONSGML v1.0//EN
CALSCALE:GREGORIAN
METHOD:PUBLISH
X-WR-CALNAME:Ayuntamiento de Mieres
X-ORIGINAL-URL:https://www.mieres.es
X-WR-CALDESC:Eventos para Ayuntamiento de Mieres
BEGIN:VTIMEZONE
TZID:Europe/Madrid
BEGIN:DAYLIGHT
TZOFFSETFROM:+0100
TZOFFSETTO:+0200
TZNAME:CEST
DTSTART:20220327T010000
END:DAYLIGHT
BEGIN:STANDARD
TZOFFSETFROM:+0200
TZOFFSETTO:+0100
TZNAME:CET
DTSTART:20221030T010000
END:STANDARD
END:VTIMEZONE
BEGIN:VEVENT
DTSTART;TZID=Europe/Madrid:20220806T100000
DTEND;TZID=Europe/Madrid:20220806T100000
DTSTAMP:20260424T050944
CREATED:20220715T112949Z
LAST-MODIFIED:20220715T112949Z
UID:58386-1659780000-1659780000@www.mieres.es
SUMMARY:Viaje a la Feria de Muestras de Gijón. Día de Mieres en la FIDMA'22
DESCRIPTION:  \nInscripciones gratuitas a partir del 11 de julio en la conserjería de la Casa de la Cultura Teodoro Cuesta -Mieres-. \nSALIDA: 10:00h. Parada de autobús frente al colegio Liceo/Aniceto Sela \nREGRESO: Salida de Gijón a las 20:00h. \n 
URL:https://www.mieres.es/evento/viaje-a-la-feria-de-muestras-de-gijon-dia-de-mieres-en-la-fidma22/
LOCATION:C/ Manuel Llaneza
CATEGORIES:Actividades,Turismo
ATTACH;FMTTYPE=image/jpeg:https://www.mieres.es/wp-content/uploads/2022/07/Cartel-web-viaje-feria-2022-Mieres.jpg
END:VEVENT
BEGIN:VEVENT
DTSTART;TZID=Europe/Madrid:20220806T103000
DTEND;TZID=Europe/Madrid:20220806T133000
DTSTAMP:20260424T050944
CREATED:20220628T060145Z
LAST-MODIFIED:20220628T062043Z
UID:58071-1659781800-1659792600@www.mieres.es
SUMMARY:Rutes Turístiques 2022: "Camino del Salvador"\, con Gabriel Hernando Díaz
DESCRIPTION:RUTES TURÍSTIQUES 2022\n\nCamino del Salvador\ncon Gabriel Hernando Díaz\nItinerario: Desde Senriella hasta La Vega de Uxo \nSábado 6 de agosto \n  \nDuración aproximada: 3 horas\nDistancia aproximada: 2.000m\nDificultad: baja\nSalida: 10:30h\, Plaza del Ayuntamiento (salida en bus hasta Senriella).\nRegreso: 13:00h\, en La Vega (regreso en bus hasta Mieres).\nAforo: 25 personas \nSe recomienda llevar calzado cómodo. \nInscripciones gratuitas a través del formulario online disponible a partir del martes 28 de junio en esta misma web\, más abajo. Facilitamos también el acceso directo al formulario: https://forms.gle/JV7ihNSNDKaXDCi76 \nEn caso de duda\, pueden dirigirse a la Oficina de Turismo de Mieres/Casa de Cultura de Mieres\, en la calle Manuel Llaneza\, 8. Tfno. 985450533 \n\n  \nComentarios sobre la ruta del Salvador por Uxo y durante el camino describir todo lo que de importante tiene esta parroquia. \n  \n\n \n  \n  \n  \n\nRutes Turístiques 2022\nUn año más\, desde el Ayuntamiento de Mieres ofrecemos a toda la ciudadanía un conjunto de rutas que\, durante el verano\, amplían las visitas guiadas a nuestros equipamientos turísticos. A través de itinerarios de muy diversa índole queremos dar a conocer nuestra historia\, patrimonio\, fiestas\, gastronomía o naturaleza. Y lo que es más importante\, con la participación no solamente de profesionales\, sino también del tejido asociativo y empresarial del concejo; una forma\, sin duda\, de hacer comunidad. Porque “Mieres va prestate”. \n\n  \n \nCargando…
URL:https://www.mieres.es/evento/rutes-turistiques-2022-camino-del-salvador-con-gabriel-hernando-diaz/
LOCATION:Uxo
CATEGORIES:Patrimonio,Ruta Cultural,Ruta Turística,Turismo
ATTACH;FMTTYPE=image/jpeg:https://www.mieres.es/wp-content/uploads/2022/06/banner-rutes-turistiques-2022-1200.jpg
ORGANIZER;CN="Concejal%C3%ADa%20de%20Turismo":MAILTO:turismo@ayto-mieres.es
END:VEVENT
BEGIN:VEVENT
DTSTART;TZID=Europe/Madrid:20220806T163000
DTEND;TZID=Europe/Madrid:20220806T180000
DTSTAMP:20260424T050944
CREATED:20220628T060722Z
LAST-MODIFIED:20220628T063031Z
UID:58074-1659803400-1659808800@www.mieres.es
SUMMARY:Rutes Turístiques 2022: "Historia y Arte en el cementerio de Mieres"\, con Ernesto Burgos
DESCRIPTION:RUTES TURÍSTIQUES 2022\n\nHistoria y Arte en el cementerio de Mieres\ncon Ernesto Burgos\nItinerario: Cementerios católico y civil de La Belonga \nSábado 6 de agosto \n  \nDuración aproximada: 1 hora y media\nDistancia aproximada: 1.000m\nDificultad: baja\nSalida: 16:30h\, Puerta del cementerio católico.\nRegreso: 18:00h\, Puerta del cementerio civil.\nAforo: 25 personas \n  \nInscripciones gratuitas a través del formulario online disponible a partir del martes 28 de junio en esta misma web\, más abajo. Facilitamos también el acceso directo al formulario: https://forms.gle/jXYf1CURXKsXSpJH6 \nEn caso de duda\, pueden dirigirse a la Oficina de Turismo de Mieres/Casa de Cultura de Mieres\, en la calle Manuel Llaneza\, 8. Tfno. 985450533 \n\n  \nEl cementerio municipal de Mieres reemplazó al antiguo que estaba ubicado tras el ábside de la iglesia románica dedicada a San Juan en La Pasera y se inauguró con urgencia en 1881 para acoger a las víctimas de una epidemia de viruela. Entre sus tumbas encontramos algunos elementos patrimoniales dignos de figurar en el catálogo de monumentos artísticos del Concejo. Recorrerlo es hacer un repaso por nuestra historia reciente y recordar a quienes la protagonizaron. \n  \n\n  \n \n\nRutes Turístiques 2022\nUn año más\, desde el Ayuntamiento de Mieres ofrecemos a toda la ciudadanía un conjunto de rutas que\, durante el verano\, amplían las visitas guiadas a nuestros equipamientos turísticos. A través de itinerarios de muy diversa índole queremos dar a conocer nuestra historia\, patrimonio\, fiestas\, gastronomía o naturaleza. Y lo que es más importante\, con la participación no solamente de profesionales\, sino también del tejido asociativo y empresarial del concejo; una forma\, sin duda\, de hacer comunidad. Porque “Mieres va prestate”. \n\n  \n \nCargando…
URL:https://www.mieres.es/evento/rutes-turistiques-2022-historia-y-arte-en-el-cementerio-de-mieres-con-ernesto-burgos/
LOCATION:Cementerio Municipal de Mieres\, Aldea la Belonga\, 101A\, 33616 Mieres\, Asturias\, Mieres\, 33600
CATEGORIES:Patrimonio,Ruta Cultural,Ruta Turística,Turismo
ATTACH;FMTTYPE=image/jpeg:https://www.mieres.es/wp-content/uploads/2022/06/banner-rutes-turistiques-2022-1200.jpg
ORGANIZER;CN="Concejal%C3%ADa%20de%20Turismo":MAILTO:turismo@ayto-mieres.es
END:VEVENT
BEGIN:VEVENT
DTSTART;TZID=Europe/Madrid:20220806T180000
DTEND;TZID=Europe/Madrid:20220806T180000
DTSTAMP:20260424T050944
CREATED:20220802T092519Z
LAST-MODIFIED:20220802T092519Z
UID:58474-1659808800-1659808800@www.mieres.es
SUMMARY:VIII Jornada Mierenses en el Mundo. Día de Mieres en la FIDMA'22
DESCRIPTION:  \n  \n 
URL:https://www.mieres.es/evento/viii-jornada-mierenses-en-el-mundo-dia-de-mieres-en-la-fidma22/
LOCATION:Feria de Muestras de Gijón\, Gijón\, 33203
CATEGORIES:Actividades,Turismo
ATTACH;FMTTYPE=image/jpeg:https://www.mieres.es/wp-content/uploads/2022/08/Cartel-mierenses-feria-2022b.jpg
END:VEVENT
END:VCALENDAR