BEGIN:VCALENDAR
VERSION:2.0
PRODID:-//Ayuntamiento de Mieres - ECPv5.16.1.1//NONSGML v1.0//EN
CALSCALE:GREGORIAN
METHOD:PUBLISH
X-WR-CALNAME:Ayuntamiento de Mieres
X-ORIGINAL-URL:https://www.mieres.es
X-WR-CALDESC:Eventos para Ayuntamiento de Mieres
BEGIN:VTIMEZONE
TZID:Europe/Madrid
BEGIN:DAYLIGHT
TZOFFSETFROM:+0100
TZOFFSETTO:+0200
TZNAME:CEST
DTSTART:20220327T010000
END:DAYLIGHT
BEGIN:STANDARD
TZOFFSETFROM:+0200
TZOFFSETTO:+0100
TZNAME:CET
DTSTART:20221030T010000
END:STANDARD
END:VTIMEZONE
BEGIN:VEVENT
DTSTART;TZID=Europe/Madrid:20220812T160000
DTEND;TZID=Europe/Madrid:20220812T190000
DTSTAMP:20260424T050944
CREATED:20220628T062837Z
LAST-MODIFIED:20220628T062913Z
UID:58080-1660320000-1660330800@www.mieres.es
SUMMARY:Rutes Turístiques 2022: "Mieres al sur. Ruta fotográfica"\, con Juanjo Arrojo
DESCRIPTION:RUTES TURÍSTIQUES 2022\n\nMieres al sur. Ruta fotográfica\ncon Juanjo Arrojo\nItinerario: Santuyano – Figaredo – Uxo \nViernes 12 de agosto \n  \nDuración aproximada: 3 horas\nDistancia aproximada: 7.000m\nDificultad: baja\nSalida: 16:00h\, Plaza del Ayuntamiento (salida en bus hasta Santuyano).\nRegreso: 19:00h\, en la plaza de la Iglesia de Uxo (regreso en bus hasta Mieres).\nAforo: 25 personas \nSe recomienda llevar cámara fotográfica\, ropa y calzado cómodo. \nInscripciones gratuitas a través del formulario online disponible a partir del martes 28 de junio en esta misma web\, más abajo. Facilitamos también el acceso directo al formulario: https://forms.gle/5fYmQNqHCNj1tsj4A \nEn caso de duda\, pueden dirigirse a la Oficina de Turismo de Mieres/Casa de Cultura de Mieres\, en la calle Manuel Llaneza\, 8. Tfno. 985450533 \n\n  \nRecorridos por varios puntos de Mieres para conocer diversas técnicas fotográficas\, encuadres y trucos de la mano de uno de los referentes de la fotografía asturiana. Aprovecharemos también para conocer diversos lugares del concejo. \n  \n\n  \n \n\nRutes Turístiques 2022\nUn año más\, desde el Ayuntamiento de Mieres ofrecemos a toda la ciudadanía un conjunto de rutas que\, durante el verano\, amplían las visitas guiadas a nuestros equipamientos turísticos. A través de itinerarios de muy diversa índole queremos dar a conocer nuestra historia\, patrimonio\, fiestas\, gastronomía o naturaleza. Y lo que es más importante\, con la participación no solamente de profesionales\, sino también del tejido asociativo y empresarial del concejo; una forma\, sin duda\, de hacer comunidad. Porque “Mieres va prestate”. \n\n  \n \nCargando…
URL:https://www.mieres.es/evento/rutes-turistiques-2022-mieres-al-sur-ruta-fotografica-con-juanjo-arrojo/
LOCATION:Uxo
CATEGORIES:Patrimonio,Ruta Cultural,Ruta Turística,Turismo
ATTACH;FMTTYPE=image/jpeg:https://www.mieres.es/wp-content/uploads/2022/06/banner-rutes-turistiques-2022-1200.jpg
ORGANIZER;CN="Concejal%C3%ADa%20de%20Turismo":MAILTO:turismo@ayto-mieres.es
END:VEVENT
END:VCALENDAR