BEGIN:VCALENDAR
VERSION:2.0
PRODID:-//Ayuntamiento de Mieres - ECPv5.16.1.1//NONSGML v1.0//EN
CALSCALE:GREGORIAN
METHOD:PUBLISH
X-WR-CALNAME:Ayuntamiento de Mieres
X-ORIGINAL-URL:https://www.mieres.es
X-WR-CALDESC:Eventos para Ayuntamiento de Mieres
BEGIN:VTIMEZONE
TZID:Europe/Madrid
BEGIN:DAYLIGHT
TZOFFSETFROM:+0100
TZOFFSETTO:+0200
TZNAME:CEST
DTSTART:20230326T010000
END:DAYLIGHT
BEGIN:STANDARD
TZOFFSETFROM:+0200
TZOFFSETTO:+0100
TZNAME:CET
DTSTART:20231029T010000
END:STANDARD
END:VTIMEZONE
BEGIN:VEVENT
DTSTART;TZID=Europe/Madrid:20230721T113000
DTEND;TZID=Europe/Madrid:20230721T113000
DTSTAMP:20260423T130145
CREATED:20230714T103941Z
LAST-MODIFIED:20230717T100330Z
UID:63855-1689939000-1689939000@www.mieres.es
SUMMARY:Rutas Turísticas 2023: "Descubriendo lugares con historia: Palacio de Camposagrado"
DESCRIPTION:RUTAS TURÍSTICAS 2023\nItinerarios guiados gratuitos\n\nDescubriendo lugares con historia:\nPalacio de Camposagrado\n  \nFecha: viernes 21 de julio \nHora: 11:30 h \nPunto de encuentro: entrada principal del I.E.S. Bernaldo de Quirós (Fray Paulino\, s/n\, Mieres) \nDuración: 2 h (aproximadamente) \nObservaciones: mascotas no permitidas \n*Los traslados desde y hasta el punto de encuentro de cada actividad corren a cargo de los/las participantes \n  \nPlazas limitadas. Imprescindible reserva \nInscripciones gratuitas a través del formulario online disponible a partir del martes 18 de julio en esta misma web\, más abajo. \nPara más información pueden dirigirse a la Oficina de Turismo de Mieres/Casa de Cultura de Mieres\, en la calle Manuel Llaneza\, 8. Tfno. 985450533 \n\n  \nA través de esta visita guiada podrás conocer uno de los monumentos con más relevancia artística e histórica del concejo\, el Palacio de los Marqueses de Camposagrado\, declarado Bien de Interés Cultural. Este emblemático edificio alberga una de las pinacotecas más importantes de Asturias\, que también tendrás la oportunidad de descubrir. \n  \n\nRutas Turísticas 2023 \nUn año más\, desde el Ayuntamiento de Mieres ofrecemos a toda la ciudadanía un conjunto de rutas que\, durante el verano\, amplían las visitas guiadas a nuestros equipamientos turísticos. Se trata de itinerarios guiados gratuitos que pretenden poner en valor y dar a conocer el patrimonio cultural\, natural\, etnográfico e industrial del concejo. \nExcursiones cicloturistas\, rutas de senderismo guiadas y recorridos culturales de diferente índole conforman el programa de actividades de la temporada estival\, dirigidas a todos los públicos. \nConsulta y descarga el programa completo aquí \n\n  \n \nCargando…
URL:https://www.mieres.es/evento/rutas-turisticas-2023-descubriendo-lugares-con-historia-palacio-de-camposagrado/
LOCATION:IES Bernaldo de Quirós\, IES Bernaldo de Quirós C/Fray Paulino s/n\, Mieres\, Asturias\, 33600\, España
CATEGORIES:Ruta Turística,Turismo
ATTACH;FMTTYPE=image/jpeg:https://www.mieres.es/wp-content/uploads/2023/07/banner-rutas-turisticas-2023.jpeg
ORGANIZER;CN="Concejal%C3%ADa%20de%20Turismo":MAILTO:turismo@ayto-mieres.es
GEO:43.244241;-5.774366
X-APPLE-STRUCTURED-LOCATION;VALUE=URI;X-ADDRESS=IES Bernaldo de Quirós IES Bernaldo de Quirós C/Fray Paulino s/n Mieres Asturias 33600 España;X-APPLE-RADIUS=500;X-TITLE=IES Bernaldo de Quirós C/Fray Paulino s/n:geo:-5.774366,43.244241
END:VEVENT
END:VCALENDAR