BEGIN:VCALENDAR
VERSION:2.0
PRODID:-//Ayuntamiento de Mieres - ECPv5.16.1.1//NONSGML v1.0//EN
CALSCALE:GREGORIAN
METHOD:PUBLISH
X-WR-CALNAME:Ayuntamiento de Mieres
X-ORIGINAL-URL:https://www.mieres.es
X-WR-CALDESC:Eventos para Ayuntamiento de Mieres
BEGIN:VTIMEZONE
TZID:Europe/Madrid
BEGIN:DAYLIGHT
TZOFFSETFROM:+0100
TZOFFSETTO:+0200
TZNAME:CEST
DTSTART:20230326T010000
END:DAYLIGHT
BEGIN:STANDARD
TZOFFSETFROM:+0200
TZOFFSETTO:+0100
TZNAME:CET
DTSTART:20231029T010000
END:STANDARD
END:VTIMEZONE
BEGIN:VEVENT
DTSTART;TZID=Europe/Madrid:20230825T093000
DTEND;TZID=Europe/Madrid:20230825T093000
DTSTAMP:20260423T114429
CREATED:20230717T111001Z
LAST-MODIFIED:20230801T095238Z
UID:63906-1692955800-1692955800@www.mieres.es
SUMMARY:Rutas Turísticas 2023: "Patrimonio industrial sobre ruedas. Senda verde de Lloreo–Frechura"
DESCRIPTION:RUTAS TURÍSTICAS 2023\nItinerarios guiados gratuitos\nExcursiones cicloturistas \nPatrimonio industrial sobre ruedas\nSenda verde de Lloreo – Frechura\n  \nFecha: Viernes 25 de agosto \nHora: 09:30 h \nPunto de encuentro: Apeadero de Renfe\, Mieres \nDuración: 3:30 h (aproximadamente) \nItinerario: Mieres – La Pereda – Lloreo/Loredo – Frechura -Mieres \nObservaciones: bicicleta proporcionada por la organización |imprescindible ropa y calzado deportivo | mascotas no permitidas \n*Los traslados desde y hasta el punto de encuentro de cada actividad corren a cargo de los/las participantes \n*Grupo mínimo para garantizar las salidas: 4 personas \nPlazas limitadas. Imprescindible reserva \nInscripciones gratuitas a través del formulario online disponible a partir del martes 18 de julio en esta misma web\, más abajo. Las inscripciones deberán formalizarse al menos con 48 h de antelación a la celebración de la actividad \nPara más información pueden dirigirse a la Oficina de Turismo de Mieres/Casa de Cultura de Mieres\, en la calle Manuel Llaneza\, 8. Tfno. 985450533 \n\n  \nExcursión cicloturista que te conducirá por la Senda Verde de Lloreo hasta el valle de Frechura\, siguiendo el trayecto del antiguo ferrocarril de vía estrecha de Hulleras de Riosa\, donde atravesarás túneles\, puentes y antiguas estaciones. Un camino rodeado de bosques autóctonos en el que destaca el paisaje calizo de las hoces de los ríos Caudal y Riosa. \n  \n\nRutas Turísticas 2023 \nUn año más\, desde el Ayuntamiento de Mieres ofrecemos a toda la ciudadanía un conjunto de rutas que\, durante el verano\, amplían las visitas guiadas a nuestros equipamientos turísticos. Se trata de itinerarios guiados gratuitos que pretenden poner en valor y dar a conocer el patrimonio cultural\, natural\, etnográfico e industrial del concejo. \nExcursiones cicloturistas\, rutas de senderismo guiadas y recorridos culturales de diferente índole conforman el programa de actividades de la temporada estival\, dirigidas a todos los públicos. \nConsulta y descarga el programa completo aquí \n\n  \n \nCargando…
URL:https://www.mieres.es/evento/rutas-turisticas-2023-patrimonio-industrial-sobre-ruedas-senda-verde-de-lloreo-frechura/
LOCATION:Lloreo\, Asturias
CATEGORIES:Ruta Turística,Turismo
ATTACH;FMTTYPE=image/jpeg:https://www.mieres.es/wp-content/uploads/2023/07/banner-rutas-turisticas-2023.jpeg
ORGANIZER;CN="Concejal%C3%ADa%20de%20Turismo":MAILTO:turismo@ayto-mieres.es
GEO:43.3613953;-5.8593267
END:VEVENT
END:VCALENDAR