BEGIN:VCALENDAR
VERSION:2.0
PRODID:-//Ayuntamiento de Mieres - ECPv5.16.1.1//NONSGML v1.0//EN
CALSCALE:GREGORIAN
METHOD:PUBLISH
X-WR-CALNAME:Ayuntamiento de Mieres
X-ORIGINAL-URL:https://www.mieres.es
X-WR-CALDESC:Eventos para Ayuntamiento de Mieres
BEGIN:VTIMEZONE
TZID:Europe/Madrid
BEGIN:DAYLIGHT
TZOFFSETFROM:+0100
TZOFFSETTO:+0200
TZNAME:CEST
DTSTART:20230326T010000
END:DAYLIGHT
BEGIN:STANDARD
TZOFFSETFROM:+0200
TZOFFSETTO:+0100
TZNAME:CET
DTSTART:20231029T010000
END:STANDARD
END:VTIMEZONE
BEGIN:VEVENT
DTSTART;TZID=Europe/Madrid:20230908T100000
DTEND;TZID=Europe/Madrid:20230908T100000
DTSTAMP:20260423T104851
CREATED:20230718T094037Z
LAST-MODIFIED:20230718T094037Z
UID:63936-1694167200-1694167200@www.mieres.es
SUMMARY:Rutas Turísticas 2023: "Recorridos en la naturaleza. Ruta circular por el Valle de Turón"
DESCRIPTION:RUTAS TURÍSTICAS 2023\nItinerarios guiados gratuitos\n\nRecorridos en la naturaleza\nRuta circular por el Valle de Turón\n  \nFecha: Viernes 8 de septiembre \nHora: 10:00 h \nPunto de encuentro: Inmediaciones del Pozo San José (barrio de San Francisco\, Turón) \nDuración: 4:00 h (aproximadamente) \nItinerario: La Felguera – La Llama – La Pruvía – Los Valles – Figaredo – La Felguera \nDistancia: 10 km \nDesnivel: 300 m (aprox.) \nDificultad: baja \nEdad mínima: 10 años \nObservaciones: imprescindible ropa deportiva y calzado de montaña |mascotas permitidas (P.P.P. no permitidos) \n*Los traslados desde y hasta el punto de encuentro de cada actividad corren a cargo de los/las participantes \n  \nPlazas limitadas. Imprescindible reserva \nInscripciones gratuitas a través del formulario online disponible a partir del martes 18 de julio en esta misma web\, más abajo. Las inscripciones deberán formalizarse al menos con 48 h de antelación a la celebración de la actividad \nPara más información pueden dirigirse a la Oficina de Turismo de Mieres/Casa de Cultura de Mieres\, en la calle Manuel Llaneza\, 8. Tfno. 985450533 \n\n  \nRecorrido guiado que te adentrará en plena naturaleza y te permitirá disfrutar de maravillosas panorámicas\, a la vez que descubrirás parte del pasado minero de la zona recorriendo un tramo de la Senda Verde de Turón. \n  \n\nRutas Turísticas 2023 \nUn año más\, desde el Ayuntamiento de Mieres ofrecemos a toda la ciudadanía un conjunto de rutas que\, durante el verano\, amplían las visitas guiadas a nuestros equipamientos turísticos. Se trata de itinerarios guiados gratuitos que pretenden poner en valor y dar a conocer el patrimonio cultural\, natural\, etnográfico e industrial del concejo. \nExcursiones cicloturistas\, rutas de senderismo guiadas y recorridos culturales de diferente índole conforman el programa de actividades de la temporada estival\, dirigidas a todos los públicos. \nConsulta y descarga el programa completo aquí \n\n  \n \nCargando…
URL:https://www.mieres.es/evento/rutas-turisticas-2023-recorridos-en-la-naturaleza-ruta-circular-por-el-valle-de-turon/
LOCATION:Pozu San José\, Turón
CATEGORIES:Ruta Turística,Turismo
ATTACH;FMTTYPE=image/jpeg:https://www.mieres.es/wp-content/uploads/2023/07/banner-rutas-turisticas-2023.jpeg
ORGANIZER;CN="Concejal%C3%ADa%20de%20Turismo":MAILTO:turismo@ayto-mieres.es
END:VEVENT
END:VCALENDAR