BEGIN:VCALENDAR
VERSION:2.0
PRODID:-//Ayuntamiento de Mieres - ECPv5.16.1.1//NONSGML v1.0//EN
CALSCALE:GREGORIAN
METHOD:PUBLISH
X-WR-CALNAME:Ayuntamiento de Mieres
X-ORIGINAL-URL:https://www.mieres.es
X-WR-CALDESC:Eventos para Ayuntamiento de Mieres
BEGIN:VTIMEZONE
TZID:Europe/Madrid
BEGIN:DAYLIGHT
TZOFFSETFROM:+0100
TZOFFSETTO:+0200
TZNAME:CEST
DTSTART:20230326T010000
END:DAYLIGHT
BEGIN:STANDARD
TZOFFSETFROM:+0200
TZOFFSETTO:+0100
TZNAME:CET
DTSTART:20231029T010000
END:STANDARD
END:VTIMEZONE
BEGIN:VEVENT
DTSTART;TZID=Europe/Madrid:20231208T110000
DTEND;TZID=Europe/Madrid:20231208T110000
DTSTAMP:20260423T060112
CREATED:20231120T110331Z
LAST-MODIFIED:20231120T110331Z
UID:65668-1702033200-1702033200@www.mieres.es
SUMMARY:Yincana urbana turístico-cultural
DESCRIPTION:Puente de la Constitución 2023 \nYincana urbana turístico-cultural\n  \nDía: 8 de diciembre \nHora: 11:00 h \nPunto de encuentro: Monumento Internacional al Minero\, Plaza La Paz (Mieres) \nDuración de la actividad: 2 h (aprox.) \nEdad mínima: 10 años \nPrecio: actividad gratuita \nObservaciones: se requiere al menos un smartphone por equipo | los/as menores de 10 años no podrán ser miembros participantes\, pero sí acompañar durante la actividad | los/as participantes menores de edad tendrán que estar acompañados/as de un/a adulto/a | mascotas no permitidas \nPlazas limitadas | Imprescindible inscripción previa |Grupo mínimo para garantizar la actividad: 8 personas | Las inscripciones deberán formalizarse con al menos 24 h de antelación a la celebración de la actividad \nInformación e inscripciones en la Oficina Municipal de Turismo (985 45 05 33 | turismo@ayto-mieres.es) y en el formulario online de esta misma página. \n  \n\n  \n¿Queréis descubrir Mieres de una forma singular? ¡Participad en nuestra yincana turístico-cultural urbana! \nEsta divertida actividad permitirá tanto a locales como a visitantes conocer parte de la historia de la ciudad de una forma diferente. Descubriréis los principales monumentos y lugares de interés\, así como sus características y curiosidades. ¿Cómo lo haréis? por equipos (en familia\, con amigos…)\, mediante pruebas de conocimiento\, acertijos y enigmas. \n  \n\n  \n \nCargando…
URL:https://www.mieres.es/evento/yincana-urbana-turistico-cultural-2/
LOCATION:Monumento al Minero\, Plaza de la Paz\, Mieres\, Asturias\, 33600
CATEGORIES:Turismo
ATTACH;FMTTYPE=image/jpeg:https://www.mieres.es/wp-content/uploads/2023/11/CARTEL-YINCANA-URBANA.jpg
ORGANIZER;CN="Concejal%C3%ADa%20de%20Turismo":MAILTO:turismo@ayto-mieres.es
END:VEVENT
END:VCALENDAR