BEGIN:VCALENDAR
VERSION:2.0
PRODID:-//Ayuntamiento de Mieres - ECPv5.16.1.1//NONSGML v1.0//EN
CALSCALE:GREGORIAN
METHOD:PUBLISH
X-WR-CALNAME:Ayuntamiento de Mieres
X-ORIGINAL-URL:https://www.mieres.es
X-WR-CALDESC:Eventos para Ayuntamiento de Mieres
BEGIN:VTIMEZONE
TZID:Europe/Madrid
BEGIN:DAYLIGHT
TZOFFSETFROM:+0100
TZOFFSETTO:+0200
TZNAME:CEST
DTSTART:20240331T010000
END:DAYLIGHT
BEGIN:STANDARD
TZOFFSETFROM:+0200
TZOFFSETTO:+0100
TZNAME:CET
DTSTART:20241027T010000
END:STANDARD
END:VTIMEZONE
BEGIN:VEVENT
DTSTART;VALUE=DATE:20240228
DTEND;VALUE=DATE:20240229
DTSTAMP:20260423T014231
CREATED:20240227T102622Z
LAST-MODIFIED:20240227T104333Z
UID:67872-1709078400-1709164799@www.mieres.es
SUMMARY:AstronoMieres apertura inscripciones
DESCRIPTION:  \nAstronoMieres. I Jornadas Astronómicas Semana Santa 2024 \nLa concejalía de Turismo del Ayuntamiento de Mieres\, en colaboración con Allande Stars\, pone en marcha esta Semana Santa AstronoMieres\, un proyecto de divulgación científica que permitirá disfrutar y aprender con distintas actividades\, de la mano de profesionales de reconocido prestigio en el ámbito de la Astrofísica\, la Física o la Ingeniería Geológica como Lucía González Cuesta. Todo en dos días\, 29 y 30 de marzo\, en los que Mieres se convertirá en un lugar de referencia con un programa de actividades para todas las edades. \nLa programación prevista es la siguiente: \n\nViernes 29 de marzo\n\n17.30-19.30 horas. Taller “Del Universo a la mina. El viaje astrogeológico del carbono”. En el Pozu Santa Bárbara. Lucía González Cuesta. Doctora en Astrofísica. Allande Stars. Juan José Álvarez Fernández. Doctor en Ingeniería Geológica – Universidad de Oviedo. Precio: 18€ adultos\, 12€ niños y niñas (entre 6 y 16 años).\n\n\n\n\n\n\n21-23 horas. Observación guiada del cielo con telescopios. Área recreativa Rozamayor “El Rancho”. Laura Hermosa Muñoz. Doctora en Astrofísica-CAB CSIC-INTA. Precio: 25€ adultos 12€ niñas y niños (entre 8 y 16 años).\n\n\n\n\nSábado 30 de marzo \n\n12-14 horas. Taller “Construcción y lanzamiento de cohetes”. Recinto Ferial de Mieres. Xuan González Fernández. Doctor en Física – Allande Stars. Precio 10€ adultos 5€ niños y niñas (entre 6 y 16 años).\n\n\n\nLas inscripciones para estas actividades se podrán realizar a partir del 28 de febrero en www.allandestars.com.
URL:https://www.mieres.es/evento/astronomieres-apertura-inscripciones/
LOCATION:Casa de Cultura Teodoro Cuesta\, Calle Manuel Llaneza\, 8\, Mieres\, Asturias\, 33600\, España
CATEGORIES:Turismo
ATTACH;FMTTYPE=image/jpeg:https://www.mieres.es/wp-content/uploads/2024/02/AstronoMieres.jpg
ORGANIZER;CN="Concejal%C3%ADa%20de%20Turismo":MAILTO:turismo@ayto-mieres.es
GEO:43.2502294;-5.7729571
X-APPLE-STRUCTURED-LOCATION;VALUE=URI;X-ADDRESS=Casa de Cultura Teodoro Cuesta Calle Manuel Llaneza 8 Mieres Asturias 33600 España;X-APPLE-RADIUS=500;X-TITLE=Calle Manuel Llaneza\, 8:geo:-5.7729571,43.2502294
END:VEVENT
END:VCALENDAR