BEGIN:VCALENDAR
VERSION:2.0
PRODID:-//Ayuntamiento de Mieres - ECPv5.16.1.1//NONSGML v1.0//EN
CALSCALE:GREGORIAN
METHOD:PUBLISH
X-WR-CALNAME:Ayuntamiento de Mieres
X-ORIGINAL-URL:https://www.mieres.es
X-WR-CALDESC:Eventos para Ayuntamiento de Mieres
BEGIN:VTIMEZONE
TZID:Europe/Madrid
BEGIN:DAYLIGHT
TZOFFSETFROM:+0100
TZOFFSETTO:+0200
TZNAME:CEST
DTSTART:20240331T010000
END:DAYLIGHT
BEGIN:STANDARD
TZOFFSETFROM:+0200
TZOFFSETTO:+0100
TZNAME:CET
DTSTART:20241027T010000
END:STANDARD
END:VTIMEZONE
BEGIN:VEVENT
DTSTART;TZID=Europe/Madrid:20240330T120000
DTEND;TZID=Europe/Madrid:20240330T120000
DTSTAMP:20260423T014231
CREATED:20240307T100708Z
LAST-MODIFIED:20240307T100708Z
UID:68084-1711800000-1711800000@www.mieres.es
SUMMARY:AstronoMieres. Taller ““Construcción y lanzamiento de cohetes”
DESCRIPTION:AstronoMieres\nI Jornadas Astronómicas Semana Santa 2024 \n  \nTaller \n“Construcción y lanzamiento de cohetes”\n\nA cargo de: \n\n Xuan González Fernández. Doctor en Física – Allande Stars.\n\n12:00-14:00 horas. Recinto Ferial de Santuyano  -Mieres- \nPrecio: 10€ adultos\, 5€ niños y niñas (entre 6 y 16 años). \n  \n\nInscripciones online a través de www.allandestars.com\n\n\n  \nLa concejalía de Turismo del Ayuntamiento de Mieres\, en colaboración con Allande Stars\, pone en marcha esta Semana Santa AstronoMieres\, un proyecto de divulgación científica que permitirá disfrutar y aprender con distintas actividades\, de la mano de profesionales de reconocido prestigio en el ámbito de la Astrofísica\, la Física o la Ingeniería Geológica como Lucía González Cuesta. Todo en dos días\, 29 y 30 de marzo\, en los que Mieres se convertirá en un lugar de referencia con un programa de actividades para todas las edades. \nImagina una observación guiada del cielo con telescopios desde Rozamayor. Y un viaje a través del conocimiento y el disfrute que te lleve desde el cielo hasta las entrañas de la tierra\, hasta la mina en el Pozu Santa Bárbara. O el aprendizaje y la diversión de construir y lanzar tu propio cohete.\nTodo esto es posible esta Semana Santa\, en AstronoMieres\, una iniciativa de la concejalía de Turismo que llega de la mano\, además\, de profesionales de reconocido prestigio en el ámbito de la Astrofísica\, la Física o la Ingeniería Geológica. \n\n\n\n\n\n  \n 
URL:https://www.mieres.es/evento/astronomieres-taller-construccion-y-lanzamiento-de-cohetes/
LOCATION:Recinto Ferial de Santuyano
CATEGORIES:Turismo
ATTACH;FMTTYPE=image/jpeg:https://www.mieres.es/wp-content/uploads/2024/02/AstronoMieres.jpg
ORGANIZER;CN="Concejal%C3%ADa%20de%20Turismo":MAILTO:turismo@ayto-mieres.es
END:VEVENT
END:VCALENDAR