BEGIN:VCALENDAR
VERSION:2.0
PRODID:-//Ayuntamiento de Mieres - ECPv5.16.1.1//NONSGML v1.0//EN
CALSCALE:GREGORIAN
METHOD:PUBLISH
X-WR-CALNAME:Ayuntamiento de Mieres
X-ORIGINAL-URL:https://www.mieres.es
X-WR-CALDESC:Eventos para Ayuntamiento de Mieres
BEGIN:VTIMEZONE
TZID:Europe/Madrid
BEGIN:DAYLIGHT
TZOFFSETFROM:+0100
TZOFFSETTO:+0200
TZNAME:CEST
DTSTART:20240331T010000
END:DAYLIGHT
BEGIN:STANDARD
TZOFFSETFROM:+0200
TZOFFSETTO:+0100
TZNAME:CET
DTSTART:20241027T010000
END:STANDARD
END:VTIMEZONE
BEGIN:VEVENT
DTSTART;TZID=Europe/Madrid:20240627T190000
DTEND;TZID=Europe/Madrid:20240627T190000
DTSTAMP:20260422T211714
CREATED:20240617T103657Z
LAST-MODIFIED:20240617T103836Z
UID:69627-1719514800-1719514800@www.mieres.es
SUMMARY:Charla-coloquio “Seguridad ciudadana enfocada al sector turístico”
DESCRIPTION:Charla-coloquio \nSeguridad ciudadana enfocada al sector turístico\n  \nPONENTES: \n\nRaúl Ferrer\, Teniente de la Guardia Civil de la Compañía de Mieres\nAlberto Pardo\, Responsable de Seguridad Ciudadana de la Policía Nacional\nCristina León\, abogada del Ilustre Colegio de Abogados de Oviedo\n\nMODERADOR: \n\nÁlvaro González Gómez (Concejal Delegado de Turismo del Ayuntamiento de Mieres)\n\n  \nJueves\, 27 de junio\, 19:00h.\nSalón de actos Casa de Cultura Teodoro Cuesta (Mieres) \nEntrada libre hasta completar aforo \n\n  \nLa Casa de Cultura Teodoro Cuesta acoge el próximo jueves día 27 de junio la charla-coloquio “Seguridad ciudadana enfocada al sector turístico”\, organizada por la Asociación de Turismo de la Montaña Central de Asturias (Asturcentral)\, con la colaboración de la Concejalía de Turismo del Ayuntamiento de Mieres. Tendrá lugar a las 19:00 horas y en ella intervendrán Raúl Ferrer\, Teniente de la Guardia Civil de la Compañía de Mieres\, Alberto Pardo\, Responsable de Seguridad Ciudadana de la Policía Nacional y Cristina León\, abogada del Ilustre Colegio de Abogados de Oviedo. El coloquio estará moderado por el Concejal Delegado de Turismo del Ayuntamiento de Mieres\, Álvaro González Gómez. \nLa charla está dirigida a las empresas del sector turístico y durante su desarrollo se abordarán temas relativos al interés estratégico nacional del sector del turismo\, normativa sobre hospedajes\, posibles infracciones administrativas por parte de los huéspedes y delitos más comunes perpetrados por los clientes. La entrada será libre hasta completar aforo. \n  \nCONTENIDO: \n\nIntroducción (sector del turismo\, interés estratégico nacional).\nNormativa sobre hospedajes (identificación de huéspedes y grabación en la aplicación Hospedajes comunicación de personas que pernoctan en alojamiento público).\nPosibles infracciones administrativas por parte de los huéspedes (alteraciones del orden público\, ruidos…).\nDelitos más comunes por parte de los huéspedes (daños intencionados y negligentes\, estafas\, impagos\, falsedad documental/usurpación estado civil\, hurtos\, lesiones).\nOtros asuntos de interés policial.\nRuegos y preguntas (casuística observada).\n\n  \n\n  \n  \n 
URL:https://www.mieres.es/evento/charla-coloquio-seguridad-ciudadana-enfocada-al-sector-turistico/
LOCATION:Casa de Cultura Teodoro Cuesta\, Calle Manuel Llaneza\, 8\, Mieres\, Asturias\, 33600\, España
CATEGORIES:Turismo
ATTACH;FMTTYPE=image/jpeg:https://www.mieres.es/wp-content/uploads/2024/06/Cartel_JornadaSeguridadCiudadana_Asturcentral.jpg
ORGANIZER;CN="Concejal%C3%ADa%20de%20Turismo":MAILTO:turismo@ayto-mieres.es
GEO:43.2502294;-5.7729571
X-APPLE-STRUCTURED-LOCATION;VALUE=URI;X-ADDRESS=Casa de Cultura Teodoro Cuesta Calle Manuel Llaneza 8 Mieres Asturias 33600 España;X-APPLE-RADIUS=500;X-TITLE=Calle Manuel Llaneza\, 8:geo:-5.7729571,43.2502294
END:VEVENT
END:VCALENDAR