BEGIN:VCALENDAR
VERSION:2.0
PRODID:-//Ayuntamiento de Mieres - ECPv5.16.1.1//NONSGML v1.0//EN
CALSCALE:GREGORIAN
METHOD:PUBLISH
X-WR-CALNAME:Ayuntamiento de Mieres
X-ORIGINAL-URL:https://www.mieres.es
X-WR-CALDESC:Eventos para Ayuntamiento de Mieres
BEGIN:VTIMEZONE
TZID:Europe/Madrid
BEGIN:DAYLIGHT
TZOFFSETFROM:+0100
TZOFFSETTO:+0200
TZNAME:CEST
DTSTART:20260329T010000
END:DAYLIGHT
BEGIN:STANDARD
TZOFFSETFROM:+0200
TZOFFSETTO:+0100
TZNAME:CET
DTSTART:20261025T010000
END:STANDARD
END:VTIMEZONE
BEGIN:VEVENT
DTSTART;TZID=Europe/Madrid:20260213T190000
DTEND;TZID=Europe/Madrid:20260213T190000
DTSTAMP:20260421T154546
CREATED:20260119T102604Z
LAST-MODIFIED:20260211T102647Z
UID:77347-1771009200-1771009200@www.mieres.es
SUMMARY:Acto de entrega de premios 1ª Edición del Reto Territorio Minero
DESCRIPTION:Acto de entrega de premios\n1ª Edición del Reto Territorio Minero\ny presentación de la edición 2026\n\nAuditoriu Teodoro Cuesta\nEntrada gratuita hasta completar aforo \n\n\n\n\n\n  \n\nReto Territorio Minero se plantea como una carrera de continuidad con dos rutas\, que discurren por el entorno de los montes Llosorio y Polio\, como escenario. 70 kilómetros de distancia y 2.600 metros de desnivel para este desafío que las y los participantes deberán realizar en el menor tiempo posible. Para superar este reto tendrán un año\, todo 2025\, periodo durante el cual podrán repetir los itinerarios diseñados tantas veces como quieran para batir su propia marca y también para alcanzar las primeras posiciones de la clasificación global. Se trata\, por tanto\, de una motivación para conocer el territorio\, que permitirá a quienes se sumen al reto establecer sus propios objetivos y hacer seguimiento de su progreso. \nEste desafío se articula a través de una aplicación online desarrollada por el Ayuntamiento\, que comenzará a funcionar el próximo día 15 de enero. Una aplicación en la que aquellas personas que deseen participar deberán registrarse\, bajar los recorridos oficiales y realizarlos y a partir de ahí subir sus tracks de las rutas. El sistema\, que utiliza inteligencia artificial\, permite validar si el recorrido realizado por la persona usuaria se corresponde con el original\, estableciendo un ranking según los tiempos registrados y la modalidad de participación: bicicleta estándar o eléctrica. \nUna vez finalizado el periodo de participación\, las tres primeras personas clasificadas en cada modalidad\, en las categorías masculino y femenino\, accederán a una bolsa de 3.000 euros en premios. Un proyecto pionero\, que cuenta con el apoyo de Caja Rural de Asturias y que nace en 2025 con una vocación de continuidad\, ya que cada año\, en enero\, comenzará una nueva edición. \n. \n\n 
URL:https://www.mieres.es/evento/acto-de-entrega-de-premios-1a-edicion-del-reto-territorio-minero/
LOCATION:Casa de Cultura Teodoro Cuesta\, Calle Manuel Llaneza\, 8\, Mieres\, Asturias\, 33600\, España
CATEGORIES:Deportes,Premios,Turismo
ATTACH;FMTTYPE=image/jpeg:https://www.mieres.es/wp-content/uploads/2026/01/cartel-web-ENTREGA-PREMIOS-TERRITORIO-MINERO.jpg
ORGANIZER;CN="Concejal%C3%ADa%20de%20Turismo":MAILTO:turismo@ayto-mieres.es
GEO:43.2502294;-5.7729571
X-APPLE-STRUCTURED-LOCATION;VALUE=URI;X-ADDRESS=Casa de Cultura Teodoro Cuesta Calle Manuel Llaneza 8 Mieres Asturias 33600 España;X-APPLE-RADIUS=500;X-TITLE=Calle Manuel Llaneza\, 8:geo:-5.7729571,43.2502294
END:VEVENT
END:VCALENDAR